BEGIN:VCALENDAR
VERSION:2.0
PRODID:-//hacksw/handcal//NONSGML v1.0//EN
BEGIN:VEVENT
SUMMARY:Entrainement
UID:3f324ce5-ad75-4ba4-b4e3-2bc685c42f1a
DTSTART:20260313T090000Z
DTEND:20260313T130000Z
LOCATION:Localisation   
CATEGORIES:Entrainement
STATUS:
DESCRIPTION:Entrainement pour toutes les equipes afin de preparer les
 prochains matchs.
URL;VALUE=URI:https://croix-dargent-basket.sportsregions.fr/evenements/2026/03/13/entrainement-2427230
END:VEVENT
BEGIN:VEVENT
SUMMARY:Match
UID:8cc340ae-e8ab-468a-9b70-177c571c3703
DTSTART:20260313T090000Z
DTEND:20260313T130000Z
LOCATION:Localisation   
CATEGORIES:Sportif
STATUS:
DESCRIPTION:<p>Le match d’aujourd’hui s'est termine sur une belle
 victoire de notre equipe 89-73.</p><p>Le club remonte au classement.
 Prochaine rencontre la semaine prochaine.</p>
URL;VALUE=URI:https://croix-dargent-basket.sportsregions.fr/evenements/2026/03/13/match-2427229
END:VEVENT
END:VCALENDAR
